24.20000000000000
0.0000000000000
0.0000000000000
-24.20000000000000
531636.79000000
4806058.76000000
